BEGIN:VCALENDAR
VERSION:2.0
PRODID:http://pfarrei-windheim.de
BEGIN:VEVENT
UID:d12f7016-36ba-11f1-a8bf-0242ac11002b-1777190400000-de
DTSTAMP:20260412T215902Z
DTSTART:20260426T080000Z
DTEND:20260426T090000Z
SUMMARY;LANGUAGE=de:Wort-Gottes-Feier
DESCRIPTION;LANGUAGE=de:mitgestaltet von den Firmlingen 2026 *mit Gebetesgedenken nach Meinung der Firmlinge 2026
END:VEVENT
END:VCALENDAR
